Workbook
Name Range_EC_metrics_AD: 'EandC metrics (AD)'!$A$11:$CD$123
Name Range_EC_metrics_DWP: 'EandC metrics (DWP)'!$A$11:$AN$31
Name Range_EC_Metrics_HB: 'EandC metrics (HB)'!$A$11:$CD$22
Name Range_EC_metrics_PR: 'EandC metrics (PR)'!$A$11:$CD$82
Name Range_EC_metrics_RW: 'EandC metrics (RW)'!$A$11:$BX$22
Name Range_EC_Reporting: 'EandC reporting issues'!$A$10:$I$26
Name Range_EC_reporting2: 'EandC reporting issues'!#REF!
Name TitleRegion1.A10.I89.7: 'EandC reporting issues'!$A$10
Name TitleRegion1.A11.CG123.3: 'EandC metrics (AD)'!$A$11
Name TitleRegion1.A11.CG22.5: 'EandC metrics (HB)'!$A$11
Name TitleRegion1.A11.CG22.6: 'EandC metrics (DWP)'!$A$11
Name TitleRegion1.A11.CG22.6: 'EandC metrics (RW)'!$A$11
Name TitleRegion1.A11.CG80.4: 'EandC metrics (PR)'!$A$11
Name TitleRegion2.A92.I93.7: 'EandC reporting issues'!#REF!

Sheet EandC overview
A1: Centers for Medicare & Medicaid Services (CMS) logo
A2: blank
A3: blank
A4: blank
A5: blank
A6: blank
A7: blank
A8: Medicaid Section 1115 Demonstration Custom Monitoring Report
A9: blank
A10: Overview: The Monitoring Report for section 1115 demonstrations consists of a Monitoring Report Workbook (Part A), Monitoring Report Template (Part B), and a Budget Neutrality Workbook (Part C). Each state with an approved Premiums and Account Payments, Marketplace-Focused Premium Assistance and Subsidy Payments, Healthy Behavior Incentives, or Retroactive Eligibility Waiver component in its section 1115 demonstration should complete only one Monitoring Report Workbook (Part A) that encompasses all components approved in its demonstration as well as the demonstration overall, in accordance with the demonstration’s special terms and conditions (STCs). This state-specific Part A Workbook reflects the composition of the components in the state’s demonstration. For more information and any questions, the state should contact the CMS section 1115 demonstration team.
A11: end of worksheet

Sheet PRA disclosure statement
A2: Note: PRA Disclosure Statement to be added here
A3: blank
A4: End of worksheet

Sheet EandC metrics (AD)
A1: Medicaid Section 1115 Demonstrations Monitoring Report (Part A) - Metrics (AD) (Version 3.0)
A2: State | C2: Iowa
A3: Demonstration Name | C3: Iowa Wellness Plan
A4: EandC Demonstration Year (DY) (Format: DY1, DY2, DY3, etc.) | C4: DY5
A5: Calendar Dates for EandC DY (Format: MM/DD/YYYY - MM/DD/YYYY) | C5: 01/01/2023- 12/31/2023
A6: EandC Reporting Period (Format: Q1, Q2, Q3, Q4) | C6: Q4
A7: Calendar Dates for EandC Reporting Period (Format: MM/DD/YYYY - MM/DD/YYYY) | C7: 10/01/2024- 12/31/2024
A8: blank
A9: Table: Demonstration Metrics - Any Demonstration (AD) | BY9: Specific Eligibility Groups
A10: Standard information on CMS-provided metrics | N10: Demonstration reporting | Q10: < 50% FPL | T10: 50-100% FPL | W10: > 100% FPL | Z10: Age <19 | AC10: Age 19-26 | AF10: Age 27-35 | AI10: Age 36-45 | AL10: Age 46-55 | AO10: Age 56-64 | AR10: Male | AU10: Female | AX10: White | BA10: Black or African American | BD10: Asian | BG10: American Indian or Alaskan Native | BJ10: Other race | BM10: Unknown race | BP10: Hispanic ethnicity | BS10: Non-Hispanic ethnicity | BV10: Unknown ethnicity | BY10: FPL 51 to 100% for IWP | CB10: FPL 101-133% for IWP | CE10: MAGI adult for Dental Wellness Plan | CH10: Non-MAGI adult for Dental Wellness Plan
A11: Standard information on CMS-provided metrics # | B11: Standard information on CMS-provided metrics Metric name | C11: Standard information on CMS-provided metrics Metric description | D11: Standard information on CMS-provided metrics Reporting topicᵃ | E11: Standard information on CMS-provided metrics Data source | F11: Standard information on CMS-provided metrics Calculation lag | G11: Standard information on CMS-provided metrics Measurement period (month, quarter, yearᵇ) | H11: Standard information on CMS-provided metrics State will report (Y/N/n.a.) | I11: Standard information on CMS-provided metrics Approved monitoring protocol indicates that reporting matches CMS-provided technical specifications manual (Y/N) | J11: Standard information on CMS-provided metrics Deviations from CMS-provided technical specifications manual or other considerations in approved monitoring protocol | K11: Standard information on CMS-provided metrics Technical specifications manual version | L11: Standard information on CMS-provided metrics Reporting issue (Y/N) (further describe in EandC reporting issues tab) | M11: Standard information on CMS-provided metrics Dates covered by measurement period (MM/DD/YYYY-MM/DD/YYYY) | N11: Demonstration reporting denominator | O11: Demonstration reporting numerator or countᶜ | P11: Demonstration reporting rate/percentaged | Q11: < 50% FPL denominator | R11: < 50% FPL numerator or countᶜ | S11: < 50% FPL rate/percentageᵈ | T11: 50-100% FPL denominator | U11: 50-100% FPL numerator or countᶜ | V11: 50-100% FPL rate/percentageᵈ | W11: > 100% FPL denominator | X11: > 100% FPL numerator or countᶜ | Y11: > 100% FPL rate/percentageᵈ | Z11: Age 19-26 denominator | AA11: Age 19-26 numerator or countᶜ | AB11: Age 19-26 rate/percentageᵈ | AC11: Age 19-26 denominator | AD11: Age 19-26 numerator or countᶜ | AE11: Age 19-26 rate/percentageᵈ | AF11: Age 27-35 denominator | AG11: Age 27-35 numerator or countᶜ | AH11: Age 27-35 rate/percentageᵈ | AI11: Age 36-45 denominator | AJ11: Age 36-45 numerator or countᶜ | AK11: Age 36-45 rate/percentageᵈ | AL11: Age 46-55 denominator | AM11: Age 46-55 numerator or countᶜ | AN11: Age 46-55 rate/percentageᵈ | AO11: Age 56-64 denominator | AP11: Age 56-64 numerator or countᶜ | AQ11: Age 56-64 rate/percentageᵈ | AR11: Male denominator | AS11: Male numerator or countᶜ | AT11: Male rate/percentageᵈ | AU11: Female denominator | AV11: Female numerator or countᶜ | AW11: Female rate/percentageᵈ | AX11: White denominator | AY11: White numerator or countᶜ | AZ11: White rate/percentageᵈ | BA11: Black or African American denominator | BB11: Black or African American numerator or countᶜ | BC11: Black or African American rate/percentageᵈ | BD11: Asian denominator | BE11: Asian numerator or countᶜ | BF11: Asian rate/percentageᵈ | BG11: American Indian or Alaskan Native denominator | BH11: American Indian or Alaskan Native numerator or countᶜ | BI11: American Indian or Alaskan Native rate/percentageᵈ | BJ11: Other race denominator | BK11: Other race numerator or countᶜ | BL11: Other race rate/percentageᵈ | BM11: Unknown race denominator | BN11: Unknown race numerator or countᶜ | BO11: Unknown race rate/percentageᵈ | BP11: Hispanic ethnicity denominator | BQ11: Hispanic ethnicity numerator or countᶜ | BR11: Hispanic ethnicity rate/percentageᵈ | BS11: Non-Hispanic ethnicity denominator | BT11: Non-Hispanic ethnicity numerator or countᶜ | BU11: Non-Hispanic ethnicity rate/percentageᵈ | BV11: Unknown ethnicity denominator | BW11: Unknown ethnicity numerator or countᶜ | BX11: Unknown ethnicity rate/percentageᵈ | BY11: Specific Eligibility Groups Denominator | BZ11: Specific Eligibility Groups Numeratorc | CA11: Specific Eligibility Groups Rate/Percentaged | CB11: Specific Eligibility Groups Denominator | CC11: Specific Eligibility Groups Numeratorc | CD11: Specific Eligibility Groups Rate/Percentaged | CE11: Specific Eligibility Groups Denominator | CF11: Specific Eligibility Groups Numeratorc | CG11: Specific Eligibility Groups Rate/Percentaged | CH11: Specific Eligibility Groups Denominator | CI11: Specific Eligibility Groups Numeratorc | CJ11: Specific Eligibility Groups Rate/Percentaged
A12: EXAMPLE: AD_33 (Do not delete or edit this row) | B12: EXAMPLE: Preventive care and office visit utilization | C12: EXAMPLE: Total utilization of preventive care and office visits per 1,000 demonstration beneficiary months during the measurement period. | D12: EXAMPLE: 1.1.7 Access to care | E12: EXAMPLE: Claims and encounters and other administrative records | F12: EXAMPLE: 90 days | G12: EXAMPLE: Quarter | H12: EXAMPLE: Y | I12: EXAMPLE: Y | J12: EXAMPLE: | K12: EXAMPLE: Version 2.0 | L12: EXAMPLE: N | M12: EXAMPLE: 04/01/2020 - 06/30/2020 | N12: EXAMPLE: 100,000 | O12: EXAMPLE: 7,500 | P12: EXAMPLE: 75% | Q12: EXAMPLE: 33,333 | R12: EXAMPLE: 2,500 | S12: EXAMPLE: 75% | T12: EXAMPLE: 33,333 | U12: EXAMPLE: 2,500 | V12: EXAMPLE: 75% | W12: EXAMPLE: 33,333 | X12: EXAMPLE: 2,500 | Y12: EXAMPLE: 75% | Z12: EXAMPLE: 16,667 | AA12: EXAMPLE: 1,250 | AB12: EXAMPLE: 75% | AC12: EXAMPLE: 16,667 | AD12: EXAMPLE: 1,250 | AE12: EXAMPLE: 75% | AF12: EXAMPLE: 16,667 | AG12: EXAMPLE: 1,250 | AH12: EXAMPLE: 75% | AI12: EXAMPLE: 16,667 | AJ12: EXAMPLE: 1,250 | AK12: EXAMPLE: 75% | AL12: EXAMPLE: 16,667 | AM12: EXAMPLE: 1,250 | AN12: EXAMPLE: 75% | AO12: EXAMPLE: 16,667 | AP12: EXAMPLE: 1,250 | AQ12: EXAMPLE: 75% | AR12: EXAMPLE: 16,667 | AS12: EXAMPLE: 1,250 | AT12: EXAMPLE: 75% | AU12: EXAMPLE: 16,667 | AV12: EXAMPLE: 1,250 | AW12: EXAMPLE: 75% | AX12: EXAMPLE: 16,667 | AY12: EXAMPLE: 1,250 | AZ12: EXAMPLE: 75% | BA12: EXAMPLE: 16,667 | BB12: EXAMPLE: 1,250 | BC12: EXAMPLE: 75% | BD12: EXAMPLE: 16,667 | BE12: EXAMPLE: 1,250 | BF12: EXAMPLE: 75% | BG12: EXAMPLE: 16,667 | BH12: EXAMPLE: 1,250 | BI12: EXAMPLE: 75% | BJ12: EXAMPLE: 16,667 | BK12: EXAMPLE: 1,250 | BL12: EXAMPLE: 75% | BM12: EXAMPLE: 16,667 | BN12: EXAMPLE: 1,250 | BO12: EXAMPLE: 75% | BP12: EXAMPLE: 33,333 | BQ12: EXAMPLE: 2,500 | BR12: EXAMPLE: 75% | BS12: EXAMPLE: 33,333 | BT12: EXAMPLE: 2,500 | BU12: EXAMPLE: 75% | BV12: EXAMPLE: 33,333 | BW12: EXAMPLE: 2,500 | BX12: EXAMPLE: 75% | BY12: EXAMPLE: 100,000 | BZ12: EXAMPLE: 7,500 | CA12: EXAMPLE: 75% | CB12: EXAMPLE: 100,000 | CC12: EXAMPLE: 7,500 | CD12: EXAMPLE: 75% | CE12: EXAMPLE: 100,000 | CF12: EXAMPLE: 7,500 | CG12: EXAMPLE: 75% | CH12: EXAMPLE: 100,000 | CI12: EXAMPLE: 7,500 | CJ12: EXAMPLE: 75%
A13: AD_1 | B13: Total enrollment in the demonstration | C13: The unduplicated number of beneficiaries enrolled in the demonstration at any time during the measurement period. This indicator is a count of total program enrollment. It includes those newly enrolled during the measurement period and those whose enrollment continues from a prior period. This indicator is not a point-in-time count. It captures beneficiaries who were enrolled for at least one day during the measurement period. | D13: 1.1.1 Enrollment | E13: Administrative records | F13: 30 days | G13: Month 1 | H13: Y | I13: Y | K13: Version 4.0 | L13: Y | M13: 10/01/2024- 10/31/2024 | N13: n.a. | O13: 177674 | P13: n.a. | Q13: n.a. | R13: n.a. | S13: n.a. | T13: n.a. | U13: n.a. | V13: n.a. | W13: n.a. | X13: n.a. | Y13: n.a. | Z13: n.a. | AA13: 0 | AD13: 44117 | AG13: 41726 | AJ13: 38365 | AM13: 29448 | AP13: 24018 | AS13: 84339 | AV13: 93335 | AY13: 105026 | BB13: 16379 | BE13: 4414 | BH13: 3221 | BK13: 18121 | BN13: 30513 | BQ13: 13772 | BT13: 133389 | BW13: 30513 | BZ13: 47074 | CC13: 37405 | CF13: 0 | CI13: 0
A14: AD_1 | B14: Total enrollment in the demonstration | C14: The unduplicated number of beneficiaries enrolled in the demonstration at any time during the measurement period. This indicator is a count of total program enrollment. It includes those newly enrolled during the measurement period and those whose enrollment continues from a prior period. This indicator is not a point-in-time count. It captures beneficiaries who were enrolled for at least one day during the measurement period. | D14: 1.1.1 Enrollment | E14: Administrative records | F14: 30 days | G14: Month 2 | H14: =IF(H13="","",H13) -> Y | I14: =IF(I13="","",I13) -> Y | J14: =IF(J13="","",J13) | K14: =IF(K13="","",K13) -> Version 4.0 | L14: =IF(L13="","",L13) -> Y | M14: 11/01/2024- 11/30/2024 | N14: n.a. | O14: 178357 | P14: n.a. | Q14: n.a. | R14: n.a. | S14: n.a. | T14: n.a. | U14: n.a. | V14: n.a. | W14: n.a. | X14: n.a. | Y14: n.a. | Z14: n.a. | AA14: 1 | AD14: 44296 | AG14: 41743 | AJ14: 38427 | AM14: 29591 | AP14: 24299 | AS14: 84605 | AV14: 93752 | AY14: 105449 | BB14: 16431 | BE14: 4486 | BH14: 3239 | BK14: 18093 | BN14: 30659 | BQ14: 13749 | BT14: 133949 | BW14: 30659 | BZ14: 47176 | CC14: 39603 | CF14: 0 | CI14: 0
A15: AD_1 | B15: Total enrollment in the demonstration | C15: The unduplicated number of beneficiaries enrolled in the demonstration at any time during the measurement period. This indicator is a count of total program enrollment. It includes those newly enrolled during the measurement period and those whose enrollment continues from a prior period. This indicator is not a point-in-time count. It captures beneficiaries who were enrolled for at least one day during the measurement period. | D15: 1.1.1 Enrollment | E15: Administrative records | F15: 30 days | G15: Month 3 | H15: =IF(H14="","",H14) -> Y | I15: =IF(I14="","",I14) -> Y | J15: =IF(J14="","",J14) | K15: =IF(K14="","",K14) -> Version 4.0 | L15: =IF(L14="","",L14) -> Y | M15: 12/01/2024- 12/31/2024 | N15: n.a. | O15: 179326 | P15: n.a. | Q15: n.a. | R15: n.a. | S15: n.a. | T15: n.a. | U15: n.a. | V15: n.a. | W15: n.a. | X15: n.a. | Y15: n.a. | Z15: n.a. | AA15: 1 | AD15: 44543 | AG15: 41963 | AJ15: 38594 | AM15: 29772 | AP15: 24453 | AS15: 85066 | AV15: 94260 | AY15: 106153 | BB15: 16382 | BE15: 4531 | BH15: 3258 | BK15: 18162 | BN15: 30840 | BQ15: 13806 | BT15: 134680 | BW15: 30840 | BZ15: 47503 | CC15: 41777 | CF15: 0 | CI15: 0
A16: AD_2 | B16: Beneficiaries in suspension status for noncompliance | C16: The number of demonstration beneficiaries in suspension status (i.e., enrolled, but not actively receiving benefits) for noncompliance with demonstration policies as of the last day of the measurement period. | D16: 1.1.1 Enrollment | E16: Administrative records | F16: 30 days | G16: Month 1 | H16: N | N16: n.a. | P16: n.a. | Q16: n.a. | R16: n.a. | S16: n.a. | T16: n.a. | U16: n.a. | V16: n.a. | W16: n.a. | X16: n.a. | Y16: n.a. | Z16: n.a. | AB16: n.a. | AC16: n.a. | AE16: n.a. | AF16: n.a. | AH16: n.a. | AI16: n.a. | AK16: n.a. | AL16: n.a. | AN16: n.a. | AO16: n.a. | AQ16: n.a. | AR16: n.a. | AS16: n.a. | AT16: n.a. | AU16: n.a. | AV16: n.a. | AW16: n.a. | AX16: n.a. | AZ16: n.a. | BA16: n.a. | BC16: n.a. | BD16: n.a. | BF16: n.a. | BG16: n.a. | BI16: n.a. | BJ16: n.a. | BL16: n.a. | BM16: n.a. | BO16: n.a. | BP16: n.a. | BR16: n.a. | BS16: n.a. | BU16: n.a. | BV16: n.a. | BX16: n.a.
A17: AD_2 | B17: Beneficiaries in suspension status for noncompliance | D17: 1.1.1 Enrollment | E17: Administrative records | F17: 30 days | G17: Month 2 | H17: =IF(H16="","",H16) -> N | I17: =IF(I16="","",I16) | J17: =IF(J16="","",J16) | K17: =IF(K16="","",K16) | L17: =IF(L16="","",L16) | N17: n.a. | P17: n.a. | Q17: n.a. | R17: n.a. | S17: n.a. | T17: n.a. | U17: n.a. | V17: n.a. | W17: n.a. | X17: n.a. | Y17: n.a. | Z17: n.a. | AB17: n.a. | AC17: n.a. | AE17: n.a. | AF17: n.a. | AH17: n.a. | AI17: n.a. | AK17: n.a. | AL17: n.a. | AN17: n.a. | AO17: n.a. | AQ17: n.a. | AR17: n.a. | AS17: n.a. | AT17: n.a. | AU17: n.a. | AV17: n.a. | AW17: n.a. | AX17: n.a. | AZ17: n.a. | BA17: n.a. | BC17: n.a. | BD17: n.a. | BF17: n.a. | BG17: n.a. | BI17: n.a. | BJ17: n.a. | BL17: n.a. | BM17: n.a. | BO17: n.a. | BP17: n.a. | BR17: n.a. | BS17: n.a. | BU17: n.a. | BV17: n.a. | BX17: n.a.
A18: AD_2 | B18: Beneficiaries in suspension status for noncompliance | D18: 1.1.1 Enrollment | E18: Administrative records | F18: 30 days | G18: Month 3 | H18: =IF(H17="","",H17) -> N | I18: =IF(I17="","",I17) | J18: =IF(J17="","",J17) | K18: =IF(K17="","",K17) | L18: =IF(L17="","",L17) | N18: n.a. | P18: n.a. | Q18: n.a. | R18: n.a. | S18: n.a. | T18: n.a. | U18: n.a. | V18: n.a. | W18: n.a. | X18: n.a. | Y18: n.a. | Z18: n.a. | AB18: n.a. | AC18: n.a. | AE18: n.a. | AF18: n.a. | AH18: n.a. | AI18: n.a. | AK18: n.a. | AL18: n.a. | AN18: n.a. | AO18: n.a. | AQ18: n.a. | AR18: n.a. | AS18: n.a. | AT18: n.a. | AU18: n.a. | AV18: n.a. | AW18: n.a. | AX18: n.a. | AZ18: n.a. | BA18: n.a. | BC18: n.a. | BD18: n.a. | BF18: n.a. | BG18: n.a. | BI18: n.a. | BJ18: n.a. | BL18: n.a. | BM18: n.a. | BO18: n.a. | BP18: n.a. | BR18: n.a. | BS18: n.a. | BU18: n.a. | BV18: n.a. | BX18: n.a.
A19: AD_3 | B19: Beneficiaries in a non-eligibility period who are prevented from re-enrolling for a defined period of time | C19: The number of prior demonstration beneficiaries who are in a non-eligibility period, meaning they are prevented from re-enrolling for some defined period of time, because they were disenrolled for noncompliance with demonstration policies. The count should include those prevented from re-enrolling until their redetermination date. | D19: 1.1.1 Enrollment | E19: Administrative records | F19: 30 days | G19: Month 1 | H19: N | N19: n.a. | P19: n.a. | Q19: n.a. | R19: n.a. | S19: n.a. | T19: n.a. | U19: n.a. | V19: n.a. | W19: n.a. | X19: n.a. | Y19: n.a. | Z19: n.a. | AB19: n.a. | AC19: n.a. | AE19: n.a. | AF19: n.a. | AH19: n.a. | AI19: n.a. | AK19: n.a. | AL19: n.a. | AN19: n.a. | AO19: n.a. | AQ19: n.a. | AR19: n.a. | AS19: n.a. | AT19: n.a. | AU19: n.a. | AV19: n.a. | AW19: n.a. | AX19: n.a. | AZ19: n.a. | BA19: n.a. | BC19: n.a. | BD19: n.a. | BF19: n.a. | BG19: n.a. | BI19: n.a. | BJ19: n.a. | BL19: n.a. | BM19: n.a. | BO19: n.a. | BP19: n.a. | BR19: n.a. | BS19: n.a. | BU19: n.a. | BV19: n.a. | BX19: n.a.
A20: AD_3 | B20: Beneficiaries in a non-eligibility period who are prevented from re-enrolling for a defined period of time | C20: The number of prior demonstration beneficiaries who are in a non-eligibility period, meaning they are prevented from re-enrolling for some defined period of time, because they were disenrolled for noncompliance with demonstration policies. The count should include those prevented from re-enrolling until their redetermination date. | D20: 1.1.1 Enrollment | E20: Administrative records | F20: 30 days | G20: Month 2 | H20: =IF(H19="","",H19) -> N | I20: =IF(I19="","",I19) | J20: =IF(J19="","",J19) | K20: =IF(K19="","",K19) | L20: =IF(L19="","",L19) | N20: n.a. | P20: n.a. | Q20: n.a. | R20: n.a. | S20: n.a. | T20: n.a. | U20: n.a. | V20: n.a. | W20: n.a. | X20: n.a. | Y20: n.a. | Z20: n.a. | AB20: n.a. | AC20: n.a. | AE20: n.a. | AF20: n.a. | AH20: n.a. | AI20: n.a. | AK20: n.a. | AL20: n.a. | AN20: n.a. | AO20: n.a. | AQ20: n.a. | AR20: n.a. | AS20: n.a. | AT20: n.a. | AU20: n.a. | AV20: n.a. | AW20: n.a. | AX20: n.a. | AZ20: n.a. | BA20: n.a. | BC20: n.a. | BD20: n.a. | BF20: n.a. | BG20: n.a. | BI20: n.a. | BJ20: n.a. | BL20: n.a. | BM20: n.a. | BO20: n.a. | BP20: n.a. | BR20: n.a. | BS20: n.a. | BU20: n.a. | BV20: n.a. | BX20: n.a.
A21: AD_3 | B21: Beneficiaries in a non-eligibility period who are prevented from re-enrolling for a defined period of time | C21: The number of prior demonstration beneficiaries who are in a non-eligibility period, meaning they are prevented from re-enrolling for some defined period of time, because they were disenrolled for noncompliance with demonstration policies. The count should include those prevented from re-enrolling until their redetermination date. | D21: 1.1.1 Enrollment | E21: Administrative records | F21: 30 days | G21: Month 3 | H21: =IF(H20="","",H20) -> N | I21: =IF(I20="","",I20) | J21: =IF(J20="","",J20) | K21: =IF(K20="","",K20) | L21: =IF(L20="","",L20) | N21: n.a. | P21: n.a. | Q21: n.a. | R21: n.a. | S21: n.a. | T21: n.a. | U21: n.a. | V21: n.a. | W21: n.a. | X21: n.a. | Y21: n.a. | Z21: n.a. | AB21: n.a. | AC21: n.a. | AE21: n.a. | AF21: n.a. | AH21: n.a. | AI21: n.a. | AK21: n.a. | AL21: n.a. | AN21: n.a. | AO21: n.a. | AQ21: n.a. | AR21: n.a. | AS21: n.a. | AT21: n.a. | AU21: n.a. | AV21: n.a. | AW21: n.a. | AX21: n.a. | AZ21: n.a. | BA21: n.a. | BC21: n.a. | BD21: n.a. | BF21: n.a. | BG21: n.a. | BI21: n.a. | BJ21: n.a. | BL21: n.a. | BM21: n.a. | BO21: n.a. | BP21: n.a. | BR21: n.a. | BS21: n.a. | BU21: n.a. | BV21: n.a. | BX21: n.a.
A22: AD_4 | B22: New enrollees | C22: Number of beneficiaries in the demonstration who began a new enrollment spell during the measurement period, have not had Medicaid coverage within the prior 3 months and were not using a state-specific pathway back to coverage. | D22: 1.1.1 Enrollment | E22: Administrative records | F22: 30 days | G22: Month 1 | H22: Y | I22: Y | K22: Version 4.0 | L22: Y | M22: 10/01/2024- 10/31/2024 | N22: n.a. | O22: 2123 | P22: n.a. | Q22: n.a. | R22: n.a. | S22: n.a. | T22: n.a. | U22: n.a. | V22: n.a. | W22: n.a. | X22: n.a. | Y22: n.a. | Z22: n.a. | AA22: 0 | AD22: 587 | AG22: 501 | AJ22: 402 | AM22: 318 | AP22: 315 | AS22: 1143 | AV22: 980 | AY22: 1006 | BB22: 286 | BE22: 42 | BH22: 30 | BK22: 266 | BN22: 493 | BQ22: 207 | BT22: 1423 | BW22: 493 | BZ22: 411 | CC22: 415 | CF22: 0 | CI22: 0
A23: AD_4 | B23: New enrollees | C23: Number of beneficiaries in the demonstration who began a new enrollment spell during the measurement period, have not had Medicaid coverage within the prior 3 months and were not using a state-specific pathway back to coverage. | D23: 1.1.1 Enrollment | E23: Administrative records | F23: 30 days | G23: Month 2 | H23: =IF(H22="","",H22) -> Y | I23: =IF(I22="","",I22) -> Y | K23: =IF(K22="","",K22) -> Version 4.0 | L23: =IF(L22="","",L22) -> Y | M23: 11/01/2024- 11/30/2024 | N23: n.a. | O23: 2632 | P23: n.a. | Q23: n.a. | R23: n.a. | S23: n.a. | T23: n.a. | U23: n.a. | V23: n.a. | W23: n.a. | X23: n.a. | Y23: n.a. | Z23: n.a. | AA23: 0 | AD23: 653 | AG23: 468 | AJ23: 496 | AM23: 408 | AP23: 607 | AS23: 1352 | AV23: 1280 | AY23: 1346 | BB23: 198 | BE23: 72 | BH23: 33 | BK23: 209 | BN23: 774 | BQ23: 157 | BT23: 1701 | BW23: 774 | BZ23: 580 | CC23: 693 | CF23: 0 | CI23: 0
A24: AD_4 | B24: New enrollees | C24: Number of beneficiaries in the demonstration who began a new enrollment spell during the measurement period, have not had Medicaid coverage within the prior 3 months and were not using a state-specific pathway back to coverage. | D24: 1.1.1 Enrollment | E24: Administrative records | F24: 30 days | G24: Month 3 | H24: =IF(H23="","",H23) -> Y | I24: =IF(I23="","",I23) -> Y | J24: =IF(J22="","",J22) | K24: =IF(K23="","",K23) -> Version 4.0 | L24: =IF(L23="","",L23) -> Y | M24: 12/01/2024- 12/31/2024 | N24: n.a. | O24: 3126 | P24: n.a. | Q24: n.a. | R24: n.a. | S24: n.a. | T24: n.a. | U24: n.a. | V24: n.a. | W24: n.a. | X24: n.a. | Y24: n.a. | Z24: n.a. | AA24: 0 | AD24: 780 | AG24: 692 | AJ24: 555 | AM24: 516 | AP24: 583 | AS24: 1751 | AV24: 1375 | AY24: 1595 | BB24: 232 | BE24: 73 | BH24: 18 | BK24: 268 | BN24: 940 | BQ24: 209 | BT24: 1977 | BW24: 940 | BZ24: 665 | CC24: 814 | CF24: 0 | CI24: 0
A25: AD_5 | B25: Re-enrollments or re-instatements using defined pathways after disenrollment or suspension of benefits for noncompliance with demonstration policies | C25: Number of beneficiaries in the demonstration who began a new enrollment spell (or had benefits re-instated) in the current measurement period by using a state-defined pathway for re-enrollment (or re-instatement of benefits). | D25: 1.1.1 Enrollment | E25: Administrative records | F25: 30 days | G25: Month 1 | H25: Y | I25: Y | N25: n.a. | P25: n.a. | Q25: n.a. | R25: n.a. | S25: n.a. | T25: n.a. | U25: n.a. | V25: n.a. | W25: n.a. | X25: n.a. | Y25: n.a. | Z25: n.a. | AB25: n.a. | AC25: n.a. | AE25: n.a. | AF25: n.a. | AH25: n.a. | AI25: n.a. | AK25: n.a. | AL25: n.a. | AN25: n.a. | AO25: n.a. | AQ25: n.a. | AR25: n.a. | AS25: n.a. | AT25: n.a. | AU25: n.a. | AV25: n.a. | AW25: n.a. | AX25: n.a. | AZ25: n.a. | BA25: n.a. | BC25: n.a. | BD25: n.a. | BF25: n.a. | BG25: n.a. | BI25: n.a. | BJ25: n.a. | BL25: n.a. | BM25: n.a. | BO25: n.a. | BP25: n.a. | BR25: n.a. | BS25: n.a. | BU25: n.a. | BV25: n.a. | BX25: n.a.
A26: AD_5 | B26: Re-enrollments or re-instatements using defined pathways after disenrollment or suspension of benefits for noncompliance with demonstration policies | D26: 1.1.1 Enrollment | E26: Administrative records | F26: 30 days | G26: Month 2 | H26: =IF(H25="","",H25) -> Y | I26: =IF(I25="","",I25) -> Y | J26: =IF(J25="","",J25) | K26: =IF(K25="","",K25) | L26: =IF(L25="","",L25) | N26: n.a. | P26: n.a. | Q26: n.a. | R26: n.a. | S26: n.a. | T26: n.a. | U26: n.a. | V26: n.a. | W26: n.a. | X26: n.a. | Y26: n.a. | Z26: n.a. | AB26: n.a. | AC26: n.a. | AE26: n.a. | AF26: n.a. | AH26: n.a. | AI26: n.a. | AK26: n.a. | AL26: n.a. | AN26: n.a. | AO26: n.a. | AQ26: n.a. | AR26: n.a. | AS26: n.a. | AT26: n.a. | AU26: n.a. | AV26: n.a. | AW26: n.a. | AX26: n.a. | AZ26: n.a. | BA26: n.a. | BC26: n.a. | BD26: n.a. | BF26: n.a. | BG26: n.a. | BI26: n.a. | BJ26: n.a. | BL26: n.a. | BM26: n.a. | BO26: n.a. | BP26: n.a. | BR26: n.a. | BS26: n.a. | BU26: n.a. | BV26: n.a. | BX26: n.a.
A27: AD_5 | B27: Re-enrollments or re-instatements using defined pathways after disenrollment or suspension of benefits for noncompliance with demonstration policies | D27: 1.1.1 Enrollment | E27: Administrative records | F27: 30 days | G27: Month 3 | H27: =IF(H26="","",H26) -> Y | I27: =IF(I26="","",I26) -> Y | J27: =IF(J26="","",J26) | K27: =IF(K26="","",K26) | L27: =IF(L26="","",L26) | N27: n.a. | P27: n.a. | Q27: n.a. | R27: n.a. | S27: n.a. | T27: n.a. | U27: n.a. | V27: n.a. | W27: n.a. | X27: n.a. | Y27: n.a. | Z27: n.a. | AB27: n.a. | AC27: n.a. | AE27: n.a. | AF27: n.a. | AH27: n.a. | AI27: n.a. | AK27: n.a. | AL27: n.a. | AN27: n.a. | AO27: n.a. | AQ27: n.a. | AR27: n.a. | AS27: n.a. | AT27: n.a. | AU27: n.a. | AV27: n.a. | AW27: n.a. | AX27: n.a. | AZ27: n.a. | BA27: n.a. | BC27: n.a. | BD27: n.a. | BF27: n.a. | BG27: n.a. | BI27: n.a. | BJ27: n.a. | BL27: n.a. | BM27: n.a. | BO27: n.a. | BP27: n.a. | BR27: n.a. | BS27: n.a. | BU27: n.a. | BV27: n.a. | BX27: n.a.
A28: AD_6 | B28: Re-enrollments or re-instatements for beneficiaries not using defined pathways after disenrollment or suspension of benefits for noncompliance | C28: Number of beneficiaries in the demonstration who began a new enrollment spell (or had benefits re-instated) in the current measurement period, have had Medicaid coverage within the prior 3 months, and are not using a state-specific pathway back to coverage. | D28: 1.1.1 Enrollment | E28: Administrative records | F28: 30 days | G28: Month 1 | H28: Y | I28: Y | K28: Version 4.0 | L28: N | M28: 10/01/2024- 10/31/2024 | N28: n.a. | O28: 0 | Q28: n.a. | R28: n.a. | S28: n.a. | T28: n.a. | U28: n.a. | V28: n.a. | W28: n.a. | X28: n.a. | Y28: n.a. | AA28: 0 | AD28: 0 | AG28: 0 | AJ28: 0 | AM28: 0 | AP28: 0 | AS28: 0 | AV28: 0 | AY28: 0 | BB28: 0 | BE28: 0 | BH28: 0 | BK28: 0 | BN28: 0 | BQ28: 0 | BT28: 0 | BW28: 0 | BZ28: 0 | CC28: 0 | CF28: 0 | CI28: 0
A29: AD_6 | B29: Re-enrollments or re-instatements for beneficiaries not using defined pathways after disenrollment or suspension of benefits for noncompliance | C29: Number of beneficiaries in the demonstration who began a new enrollment spell (or had benefits re-instated) in the current measurement period, have had Medicaid coverage within the prior 3 months, and are not using a state-specific pathway back to coverage. | D29: 1.1.1 Enrollment | E29: Administrative records | F29: 30 days | G29: Month 2 | H29: =IF(H28="","",H28) -> Y | I29: =IF(I28="","",I28) -> Y | J29: =IF(J28="","",J28) | K29: =IF(K28="","",K28) -> Version 4.0 | L29: =IF(L28="","",L28) -> N | M29: 11/01/2024- 11/30/2024 | N29: n.a. | O29: 0 | Q29: n.a. | R29: n.a. | S29: n.a. | T29: n.a. | U29: n.a. | V29: n.a. | W29: n.a. | X29: n.a. | Y29: n.a. | AA29: 0 | AD29: 0 | AG29: 0 | AJ29: 0 | AM29: 0 | AP29: 0 | AS29: 0 | AV29: 0 | AY29: 0 | BB29: 0 | BE29: 0 | BH29: 0 | BK29: 0 | BN29: 0 | BQ29: 0 | BT29: 0 | BW29: 0 | BZ29: 0 | CC29: 0 | CF29: 0 | CI29: 0
A30: AD_6 | B30: Re-enrollments or re-instatements for beneficiaries not using defined pathways after disenrollment or suspension of benefits for noncompliance | C30: Number of beneficiaries in the demonstration who began a new enrollment spell (or had benefits re-instated) in the current measurement period, have had Medicaid coverage within the prior 3 months, and are not using a state-specific pathway back to coverage. | D30: 1.1.1 Enrollment | E30: Administrative records | F30: 30 days | G30: Month 3 | H30: =IF(H29="","",H29) -> Y | I30: =IF(I29="","",I29) -> Y | J30: =IF(J29="","",J29) | K30: =IF(K29="","",K29) -> Version 4.0 | L30: =IF(L29="","",L29) -> N | M30: 12/01/2024- 12/31/2024 | N30: n.a. | O30: 0 | Q30: n.a. | R30: n.a. | S30: n.a. | T30: n.a. | U30: n.a. | V30: n.a. | W30: n.a. | X30: n.a. | Y30: n.a. | AA30: 0 | AD30: 0 | AG30: 0 | AJ30: 0 | AM30: 0 | AP30: 0 | AS30: 0 | AV30: 0 | AY30: 0 | BB30: 0 | BE30: 0 | BH30: 0 | BK30: 0 | BN30: 0 | BQ30: 0 | BT30: 0 | BW30: 0 | BZ30: 0 | CC30: 0 | CF30: 0 | CI30: 0
A31: AD_7 | B31: Beneficiaries determined ineligible for Medicaid, any reason, other than at renewal | C31: Total number of beneficiaries in the demonstration determined ineligible for Medicaid and disenrolled during the measurement period (separate reasons reported in other indicators), other than at renewal. | D31: 1.1.2 Mid-year loss of demonstration eligibility | E31: Administrative records | F31: 30 days | G31: Month 1 | H31: Y | I31: Y | K31: Version 4.0 | L31: N | M31: 10/01/2024- 10/31/2024 | N31: n.a. | O31: 2585 | Q31: n.a. | R31: n.a. | S31: n.a. | T31: n.a. | U31: n.a. | V31: n.a. | W31: n.a. | X31: n.a. | Y31: n.a. | AA31: 0 | AD31: 679 | AG31: 676 | AJ31: 572 | AM31: 383 | AP31: 275 | AS31: 1267 | AV31: 1318 | AY31: 1445 | BB31: 305 | BE31: 39 | BH31: 46 | BK31: 281 | BN31: 469 | BQ31: 205 | BT31: 1911 | BW31: 469 | BZ31: 632 | CC31: 624 | CF31: 0 | CI31: 0
A32: AD_7 | B32: Beneficiaries determined ineligible for Medicaid, any reason, other than at renewal | C32: Total number of beneficiaries in the demonstration determined ineligible for Medicaid and disenrolled during the measurement period (separate reasons reported in other indicators), other than at renewal. | D32: 1.1.2 Mid-year loss of demonstration eligibility | E32: Administrative records | F32: 30 days | G32: Month 2 | H32: =IF(H31="","",H31) -> Y | I32: =IF(I31="","",I31) -> Y | J32: =IF(J31="","",J31) | K32: =IF(K31="","",K31) -> Version 4.0 | L32: =IF(L31="","",L31) -> N | M32: 11/01/2024- 11/30/2024 | N32: n.a. | O32: 2251 | Q32: n.a. | R32: n.a. | S32: n.a. | T32: n.a. | U32: n.a. | V32: n.a. | W32: n.a. | X32: n.a. | Y32: n.a. | AA32: 0 | AD32: 556 | AG32: 576 | AJ32: 502 | AM32: 346 | AP32: 271 | AS32: 1095 | AV32: 1156 | AY32: 1201 | BB32: 327 | BE32: 51 | BH32: 27 | BK32: 213 | BN32: 432 | BQ32: 158 | BT32: 1661 | BW32: 432 | BZ32: 577 | CC32: 528 | CF32: 0 | CI32: 0
A33: AD_7 | B33: Beneficiaries determined ineligible for Medicaid, any reason, other than at renewal | C33: Total number of beneficiaries in the demonstration determined ineligible for Medicaid and disenrolled during the measurement period (separate reasons reported in other indicators), other than at renewal. | D33: 1.1.2 Mid-year loss of demonstration eligibility | E33: Administrative records | F33: 30 days | G33: Month 3 | H33: =IF(H32="","",H32) -> Y | I33: =IF(I32="","",I32) -> Y | J33: =IF(J32="","",J32) | K33: =IF(K32="","",K32) -> Version 4.0 | L33: =IF(L32="","",L32) -> N | M33: 12/01/2024- 12/31/2024 | N33: n.a. | O33: 3649 | Q33: n.a. | R33: n.a. | S33: n.a. | T33: n.a. | U33: n.a. | V33: n.a. | W33: n.a. | X33: n.a. | Y33: n.a. | AA33: 0 | AD33: 812 | AG33: 854 | AJ33: 692 | AM33: 551 | AP33: 740 | AS33: 1754 | AV33: 1895 | AY33: 2005 | BB33: 377 | BE33: 75 | BH33: 63 | BK33: 314 | BN33: 815 | BQ33: 237 | BT33: 2597 | BW33: 815 | BZ33: 857 | CC33: 912 | CF33: 0 | CI33: 0
A34: AD_8 | B34: Beneficiaries no longer eligible for Medicaid, failure to provide timely change in circumstance information | C34: Number of beneficiaries enrolled in the demonstration and who lost eligibility for Medicaid during the measurement period due to failure to provide timely change in circumstance information. | D34: 1.1.2 Mid-year loss of demonstration eligibility | E34: Administrative records | F34: 30 days | G34: Month 1 | H34: N | N34: n.a. | O34: n.a. | P34: n.a. | Q34: n.a. | R34: n.a. | S34: n.a. | T34: n.a. | U34: n.a. | V34: n.a. | W34: n.a. | X34: n.a. | Y34: n.a. | Z34: n.a. | AA34: n.a. | AB34: n.a. | AC34: n.a. | AD34: n.a. | AE34: n.a. | AF34: n.a. | AG34: n.a. | AH34: n.a. | AI34: n.a. | AJ34: n.a. | AK34: n.a. | AL34: n.a. | AM34: n.a. | AN34: n.a. | AO34: n.a. | AP34: n.a. | AQ34: n.a. | AR34: n.a. | AS34: n.a. | AT34: n.a. | AU34: n.a. | AV34: n.a. | AW34: n.a. | AX34: n.a. | AY34: n.a. | AZ34: n.a. | BA34: n.a. | BB34: n.a. | BC34: n.a. | BD34: n.a. | BE34: n.a. | BF34: n.a. | BG34: n.a. | BH34: n.a. | BI34: n.a. | BJ34: n.a. | BK34: n.a. | BL34: n.a. | BM34: n.a. | BN34: n.a. | BO34: n.a. | BP34: n.a. | BQ34: n.a. | BR34: n.a. | BS34: n.a. | BT34: n.a. | BU34: n.a. | BV34: n.a. | BW34: n.a. | BX34: n.a.
A35: AD_8 | B35: Beneficiaries no longer eligible for Medicaid, failure to provide timely change in circumstance information | C35: Number of beneficiaries enrolled in the demonstration and who lost eligibility for Medicaid during the measurement period due to failure to provide timely change in circumstance information. | D35: 1.1.2 Mid-year loss of demonstration eligibility | E35: Administrative records | F35: 30 days | G35: Month 2 | H35: =IF(H34="","",H34) -> N | I35: =IF(I34="","",I34) | J35: =IF(J34="","",J34) | K35: =IF(K34="","",K34) | L35: =IF(L34="","",L34) | N35: n.a. | O35: n.a. | P35: n.a. | Q35: n.a. | R35: n.a. | S35: n.a. | T35: n.a. | U35: n.a. | V35: n.a. | W35: n.a. | X35: n.a. | Y35: n.a. | Z35: n.a. | AA35: n.a. | AB35: n.a. | AC35: n.a. | AD35: n.a. | AE35: n.a. | AF35: n.a. | AG35: n.a. | AH35: n.a. | AI35: n.a. | AJ35: n.a. | AK35: n.a. | AL35: n.a. | AM35: n.a. | AN35: n.a. | AO35: n.a. | AP35: n.a. | AQ35: n.a. | AR35: n.a. | AS35: n.a. | AT35: n.a. | AU35: n.a. | AV35: n.a. | AW35: n.a. | AX35: n.a. | AY35: n.a. | AZ35: n.a. | BA35: n.a. | BB35: n.a. | BC35: n.a. | BD35: n.a. | BE35: n.a. | BF35: n.a. | BG35: n.a. | BH35: n.a. | BI35: n.a. | BJ35: n.a. | BK35: n.a. | BL35: n.a. | BM35: n.a. | BN35: n.a. | BO35: n.a. | BP35: n.a. | BQ35: n.a. | BR35: n.a. | BS35: n.a. | BT35: n.a. | BU35: n.a. | BV35: n.a. | BW35: n.a. | BX35: n.a.
A36: AD_8 | B36: Beneficiaries no longer eligible for Medicaid, failure to provide timely change in circumstance information | C36: Number of beneficiaries enrolled in the demonstration and who lost eligibility for Medicaid during the measurement period due to failure to provide timely change in circumstance information. | D36: 1.1.2 Mid-year loss of demonstration eligibility | E36: Administrative records | F36: 30 days | G36: Month 3 | H36: =IF(H35="","",H35) -> N | I36: =IF(I35="","",I35) | J36: =IF(J35="","",J35) | K36: =IF(K35="","",K35) | L36: =IF(L35="","",L35) | N36: n.a. | O36: n.a. | P36: n.a. | Q36: n.a. | R36: n.a. | S36: n.a. | T36: n.a. | U36: n.a. | V36: n.a. | W36: n.a. | X36: n.a. | Y36: n.a. | Z36: n.a. | AA36: n.a. | AB36: n.a. | AC36: n.a. | AD36: n.a. | AE36: n.a. | AF36: n.a. | AG36: n.a. | AH36: n.a. | AI36: n.a. | AJ36: n.a. | AK36: n.a. | AL36: n.a. | AM36: n.a. | AN36: n.a. | AO36: n.a. | AP36: n.a. | AQ36: n.a. | AR36: n.a. | AS36: n.a. | AT36: n.a. | AU36: n.a. | AV36: n.a. | AW36: n.a. | AX36: n.a. | AY36: n.a. | AZ36: n.a. | BA36: n.a. | BB36: n.a. | BC36: n.a. | BD36: n.a. | BE36: n.a. | BF36: n.a. | BG36: n.a. | BH36: n.a. | BI36: n.a. | BJ36: n.a. | BK36: n.a. | BL36: n.a. | BM36: n.a. | BN36: n.a. | BO36: n.a. | BP36: n.a. | BQ36: n.a. | BR36: n.a. | BS36: n.a. | BT36: n.a. | BU36: n.a. | BV36: n.a. | BW36: n.a. | BX36: n.a.
A37: AD_9 | B37: Beneficiaries determined ineligible for Medicaid after state processes a beneficiary-reported change in circumstance | C37: Number of beneficiaries who were enrolled in the demonstration and lost eligibility for Medicaid during the measurement period because they were determined ineligible after the state processed a change in circumstance, such as income or family household. | D37: 1.1.2 Mid-year loss of demonstration eligibility | E37: Administrative records | F37: 30 days | G37: Month 1 | H37: N | N37: n.a. | O37: n.a. | P37: n.a. | Q37: n.a. | R37: n.a. | S37: n.a. | T37: n.a. | U37: n.a. | V37: n.a. | W37: n.a. | X37: n.a. | Y37: n.a. | Z37: n.a. | AA37: n.a. | AB37: n.a. | AC37: n.a. | AD37: n.a. | AE37: n.a. | AF37: n.a. | AG37: n.a. | AH37: n.a. | AI37: n.a. | AJ37: n.a. | AK37: n.a. | AL37: n.a. | AM37: n.a. | AN37: n.a. | AO37: n.a. | AP37: n.a. | AQ37: n.a. | AR37: n.a. | AS37: n.a. | AT37: n.a. | AU37: n.a. | AV37: n.a. | AW37: n.a. | AX37: n.a. | AY37: n.a. | AZ37: n.a. | BA37: n.a. | BB37: n.a. | BC37: n.a. | BD37: n.a. | BE37: n.a. | BF37: n.a. | BG37: n.a. | BH37: n.a. | BI37: n.a. | BJ37: n.a. | BK37: n.a. | BL37: n.a. | BM37: n.a. | BN37: n.a. | BO37: n.a. | BP37: n.a. | BQ37: n.a. | BR37: n.a. | BS37: n.a. | BT37: n.a. | BU37: n.a. | BV37: n.a. | BW37: n.a. | BX37: n.a.
A38: AD_9 | B38: Beneficiaries determined ineligible for Medicaid after state processes a beneficiary-reported change in circumstance | D38: 1.1.2 Mid-year loss of demonstration eligibility | E38: Administrative records | F38: 30 days | G38: Month 2 | H38: =IF(H37="","",H37) -> N | I38: =IF(I37="","",I37) | J38: =IF(J37="","",J37) | K38: =IF(K37="","",K37) | L38: =IF(L37="","",L37) | N38: n.a. | O38: n.a. | P38: n.a. | Q38: n.a. | R38: n.a. | S38: n.a. | T38: n.a. | U38: n.a. | V38: n.a. | W38: n.a. | X38: n.a. | Y38: n.a. | Z38: n.a. | AA38: n.a. | AB38: n.a. | AC38: n.a. | AD38: n.a. | AE38: n.a. | AF38: n.a. | AG38: n.a. | AH38: n.a. | AI38: n.a. | AJ38: n.a. | AK38: n.a. | AL38: n.a. | AM38: n.a. | AN38: n.a. | AO38: n.a. | AP38: n.a. | AQ38: n.a. | AR38: n.a. | AS38: n.a. | AT38: n.a. | AU38: n.a. | AV38: n.a. | AW38: n.a. | AX38: n.a. | AY38: n.a. | AZ38: n.a. | BA38: n.a. | BB38: n.a. | BC38: n.a. | BD38: n.a. | BE38: n.a. | BF38: n.a. | BG38: n.a. | BH38: n.a. | BI38: n.a. | BJ38: n.a. | BK38: n.a. | BL38: n.a. | BM38: n.a. | BN38: n.a. | BO38: n.a. | BP38: n.a. | BQ38: n.a. | BR38: n.a. | BS38: n.a. | BT38: n.a. | BU38: n.a. | BV38: n.a. | BW38: n.a. | BX38: n.a.
A39: AD_9 | B39: Beneficiaries determined ineligible for Medicaid after state processes a beneficiary-reported change in circumstance | D39: 1.1.2 Mid-year loss of demonstration eligibility | E39: Administrative records | F39: 30 days | G39: Month 3 | H39: =IF(H38="","",H38) -> N | I39: =IF(I38="","",I38) | J39: =IF(J38="","",J38) | K39: =IF(K38="","",K38) | L39: =IF(L38="","",L38) | N39: n.a. | O39: n.a. | P39: n.a. | Q39: n.a. | R39: n.a. | S39: n.a. | T39: n.a. | U39: n.a. | V39: n.a. | W39: n.a. | X39: n.a. | Y39: n.a. | Z39: n.a. | AA39: n.a. | AB39: n.a. | AC39: n.a. | AD39: n.a. | AE39: n.a. | AF39: n.a. | AG39: n.a. | AH39: n.a. | AI39: n.a. | AJ39: n.a. | AK39: n.a. | AL39: n.a. | AM39: n.a. | AN39: n.a. | AO39: n.a. | AP39: n.a. | AQ39: n.a. | AR39: n.a. | AS39: n.a. | AT39: n.a. | AU39: n.a. | AV39: n.a. | AW39: n.a. | AX39: n.a. | AY39: n.a. | AZ39: n.a. | BA39: n.a. | BB39: n.a. | BC39: n.a. | BD39: n.a. | BE39: n.a. | BF39: n.a. | BG39: n.a. | BH39: n.a. | BI39: n.a. | BJ39: n.a. | BK39: n.a. | BL39: n.a. | BM39: n.a. | BN39: n.a. | BO39: n.a. | BP39: n.a. | BQ39: n.a. | BR39: n.a. | BS39: n.a. | BT39: n.a. | BU39: n.a. | BV39: n.a. | BW39: n.a. | BX39: n.a.
A40: AD_10 | B40: Beneficiaries no longer eligible for the demonstration due to transfer to another Medicaid eligibility group | C40: Number of beneficiaries who were enrolled in the demonstration and transferred from the demonstration to a Medicaid eligibility group not included in the demonstration during the measurement period. | D40: 1.1.2 Mid-year loss of demonstration eligibility | E40: Administrative records | F40: 30 days | G40: Month 1 | H40: Y | I40: Y | K40: Version 4.0 | L40: Y | M40: 10/01/2024- 10/31/2024 | N40: n.a. | O40: 1222 | Q40: n.a. | R40: n.a. | S40: n.a. | T40: n.a. | U40: n.a. | V40: n.a. | W40: n.a. | X40: n.a. | Y40: n.a. | AA40: 0 | AD40: 247 | AG40: 340 | AJ40: 294 | AM40: 174 | AP40: 167 | AS40: 408 | AV40: 814 | AY40: 726 | BB40: 139 | BE40: 39 | BH40: 21 | BK40: 142 | BN40: 155 | BQ40: 104 | BT40: 963 | BW40: 155 | BZ40: 666 | CC40: 39 | CF40: 0 | CI40: 0
...

Sheet EandC metrics (PR)
A1: Medicaid Section 1115 Demonstrations Monitoring Report (Part A) - Metrics (PR) (Version 3.0)
A2: State | C2: ='EandC metrics (AD)'!C2 -> Iowa
A3: Demonstration Name | C3: ='EandC metrics (AD)'!C3 -> Iowa Wellness Plan
A4: PR Demonstration Year (DY) (Format: DY1, DY2, DY3, etc.) | C4: DY5
A5: Calendar Dates for PR DY (Format: MM/DD/YYYY - MM/DD/YYYY) | C5: 01/01/2023- 12/31/2023
A6: PR Reporting Period (Format: Q1, Q2, Q3, Q4) | C6: Q4
A7: Calendar Dates for EandC Reporting Period (Format: MM/DD/YYYY - MM/DD/YYYY) | C7: ='EandC metrics (AD)'!C7 -> 10/01/2024- 12/31/2024
A8: blank
A9: Table: Demonstration Metrics - Premiums and Account Payments (PR) | BY9: Specific Eligibility Groups
A10: Standard information on CMS-provided metrics | N10: Demonstration reporting | Q10: < 50% FPL | T10: 50-100% FPL | W10: > 100% FPL | Z10: Age < 19 | AC10: Age 19-26 | AF10: Age 27-35 | AI10: Age 36-45 | AL10: Age 46-55 | AO10: Age 56-64 | AR10: Male | AU10: Female | AX10: White | BA10: Black or African American | BD10: Asian | BG10: American Indian or Alaskan Native | BJ10: Other race | BM10: Unknown race | BP10: Hispanic ethnicity | BS10: Non-Hispanic ethnicity | BV10: Unknown ethnicity | BY10: FPL 51 to 100% for IWP | CB10: FPL 101-133% for IWP
A11: Standard information on CMS-provided metrics # | B11: Standard information on CMS-provided metrics Metric name | C11: Standard information on CMS-provided metrics Metric description | D11: Standard information on CMS-provided metrics Reporting topicᵃ | E11: Standard information on CMS-provided metrics Data source | F11: Standard information on CMS-provided metrics Calculation lag | G11: Standard information on CMS-provided metrics Measurement period (month, quarter, year) | H11: Standard information on CMS-provided metrics State will report (Y/N/n.a.) | I11: Standard information on CMS-provided metrics Approved monitoring protocol indicates that reporting matches CMS-provided technical specifications manual (Y/N) | J11: Standard information on CMS-provided metrics Deviations from CMS-provided technical specifications manual in approved monitoring protocol, or other considerations | K11: Standard information on CMS-provided metrics Technical specifications manual version | L11: Standard information on CMS-provided metrics Reporting issue (Y/N) (further describe in EandC reporting issues tab) | M11: Standard information on CMS-provided metrics Dates covered by measurement period (MM/DD/YYYY-MM/DD/YYYY) | N11: Demonstration reporting denominator | O11: Demonstration reporting numerator or count | P11: Demonstration reporting rate/percentageᵇ | Q11: < 50% FPL denominator | R11: < 50% FPL numerator or count | S11: < 50% FPL rate/percentageᵇ | T11: 50-100% FPL denominator | U11: 50-100% FPL numerator or count | V11: 50-100% FPL rate/percentageᵇ | W11: > 100% FPL denominator | X11: > 100% FPL numerator or count | Y11: > 100% FPL rate/percentageᵇ | Z11: Age < 19 denominator | AA11: Age < 19 numerator or count | AB11: Age < 19 rate/percentageᵇ | AC11: Age 19-26 denominator | AD11: Age 19-26 numerator or count | AE11: Age 19-26 rate/percentageᵇ | AF11: Age 27-35 denominator | AG11: Age 27-35 numerator or count | AH11: Age 27-35 rate/percentageᵇ | AI11: Age 36-45 denominator | AJ11: Age 36-45 numerator or count | AK11: Age 36-45 rate/percentageᵇ | AL11: Age 46-55 denominator | AM11: Age 46-55 numerator or count | AN11: Age 46-55 rate/percentageᵇ | AO11: Age 56-64 denominator | AP11: Age 56-64 numerator or count | AQ11: Age 56-64 rate/percentageᵇ | AR11: Male denominator | AS11: Male numerator or count | AT11: Male rate/percentageᵇ | AU11: Female denominator | AV11: Female numerator or count | AW11: Female rate/percentageᵇ | AX11: White denominator | AY11: White numerator or count | AZ11: White rate/percentageᵇ | BA11: Black or African American denominator | BB11: Black or African American numerator or count | BC11: Black or African American rate/percentageᵇ | BD11: Asian denominator | BE11: Asian numerator or count | BF11: Asian rate/percentageᵇ | BG11: American Indian or Alaskan Native denominator | BH11: American Indian or Alaskan Native numerator or count | BI11: American Indian or Alaskan Native rate/percentageᵇ | BJ11: Other race denominator | BK11: Other race numerator or count | BL11: Other race rate/percentageᵇ | BM11: Unknown race denominator | BN11: Unknown race numerator or count | BO11: Unknown race rate/percentageᵇ | BP11: Hispanic ethnicity denominator | BQ11: Hispanic ethnicity numerator or count | BR11: Hispanic ethnicity rate/percentageᵇ | BS11: Non-Hispanic ethnicity denominator | BT11: Non-Hispanic ethnicity numerator or count | BU11: Non-Hispanic ethnicity rate/percentageᵇ | BV11: Unknown ethnicity denominator | BW11: Unknown ethnicity numerator or count | BX11: Unknown ethnicity rate/percentageᵇ | BY11: Specific Eligibility Groups Denominator | BZ11: Specific Eligibility Groups Numeratorc | CA11: Specific Eligibility Groups Rate/Percentaged | CB11: Specific Eligibility Groups Denominator | CC11: Specific Eligibility Groups Numerator³ | CD11: Specific Eligibility Groups Rate/Percentaged
A12: EXAMPLE: PR_21 (Do not delete or edit this row) | B12: EXAMPLE: Third-party premium payment | C12: EXAMPLE: Number of beneficiaries enrolled in the demonstration who had any portion of their premium or other monthly payments paid by a third party. | D12: EXAMPLE: PR.Mod_1: Eligibility and payment amounts | E12: EXAMPLE: Administrative records | F12: EXAMPLE: 30 days | G12: EXAMPLE: Month 1 | H12: EXAMPLE: Y | I12: EXAMPLE: Y | J12: EXAMPLE: | K12: EXAMPLE: Version 2.0 | L12: EXAMPLE: N | M12: EXAMPLE: 01/01/2020-01/31/2020 | N12: n.a. | O12: EXAMPLE: 50,000 | P12: n.a. | Q12: n.a. | R12: EXAMPLE: 16,667 | S12: n.a. | T12: n.a. | U12: EXAMPLE: 16,667 | V12: n.a. | W12: n.a. | X12: EXAMPLE: 16,667 | Y12: n.a. | Z12: n.a. | AA12: EXAMPLE: 16,667 | AB12: n.a. | AC12: n.a. | AD12: EXAMPLE: 16,667 | AE12: n.a. | AF12: n.a. | AG12: EXAMPLE: 16,667 | AH12: n.a. | AI12: n.a. | AJ12: EXAMPLE: 16,667 | AK12: n.a. | AL12: n.a. | AM12: EXAMPLE: 16,667 | AN12: n.a. | AO12: n.a. | AP12: EXAMPLE: 16,667 | AQ12: n.a. | AR12: n.a. | AS12: EXAMPLE: 16,667 | AT12: n.a. | AU12: n.a. | AV12: EXAMPLE: 16,667 | AW12: n.a. | AX12: n.a. | AY12: EXAMPLE: 16,667 | AZ12: n.a. | BA12: n.a. | BB12: EXAMPLE: 16,667 | BC12: n.a. | BD12: n.a. | BE12: EXAMPLE: 16,667 | BF12: n.a. | BG12: n.a. | BH12: EXAMPLE: 16,667 | BI12: n.a. | BJ12: n.a. | BK12: EXAMPLE: 16,667 | BL12: n.a. | BM12: n.a. | BN12: EXAMPLE: 16,667 | BO12: n.a. | BP12: n.a. | BQ12: EXAMPLE: 16,667 | BR12: n.a. | BS12: n.a. | BT12: EXAMPLE: 16,667 | BU12: n.a. | BV12: n.a. | BW12: EXAMPLE: 16,667 | BX12: n.a. | BY12: EXAMPLE: 100,000 | BZ12: EXAMPLE: 7,500 | CA12: EXAMPLE: 75% | CB12: EXAMPLE: 100,000 | CC12: EXAMPLE: 7,500 | CD12: EXAMPLE: 75%
A13: EXAMPLE: PR_21 (Do not delete or edit this row) | B13: EXAMPLE: Third-party premium payment | C13: EXAMPLE: Number of beneficiaries enrolled in the demonstration who had any portion of their premium or other monthly payments paid by a third party. | D13: EXAMPLE: PR.Mod_1: Eligibility and payment amounts | E13: EXAMPLE: Administrative records | F13: EXAMPLE: 30 days | G13: EXAMPLE: Month 2 | H13: EXAMPLE: Y | I13: EXAMPLE: Y | J13: EXAMPLE: | K13: EXAMPLE: Version 2.0 | L13: EXAMPLE: N | M13: EXAMPLE: 02/01/2020-02/28/2020 | N13: n.a. | O13: EXAMPLE: 50,000 | P13: n.a. | Q13: n.a. | R13: EXAMPLE: 16,667 | S13: n.a. | T13: n.a. | U13: EXAMPLE: 16,667 | V13: n.a. | W13: n.a. | X13: EXAMPLE: 16,667 | Y13: n.a. | Z13: n.a. | AA13: EXAMPLE: 16,667 | AB13: n.a. | AC13: n.a. | AD13: EXAMPLE: 16,667 | AE13: n.a. | AF13: n.a. | AG13: EXAMPLE: 16,667 | AH13: n.a. | AI13: n.a. | AJ13: EXAMPLE: 16,667 | AK13: n.a. | AL13: n.a. | AM13: EXAMPLE: 16,667 | AN13: n.a. | AO13: n.a. | AP13: EXAMPLE: 16,667 | AQ13: n.a. | AR13: n.a. | AS13: EXAMPLE: 16,667 | AT13: n.a. | AU13: n.a. | AV13: EXAMPLE: 16,667 | AW13: n.a. | AX13: n.a. | AY13: EXAMPLE: 16,667 | AZ13: n.a. | BA13: n.a. | BB13: EXAMPLE: 16,667 | BC13: n.a. | BD13: n.a. | BE13: EXAMPLE: 16,667 | BF13: n.a. | BG13: n.a. | BH13: EXAMPLE: 16,667 | BI13: n.a. | BJ13: n.a. | BK13: EXAMPLE: 16,667 | BL13: n.a. | BM13: n.a. | BN13: EXAMPLE: 16,667 | BO13: n.a. | BP13: n.a. | BQ13: EXAMPLE: 16,667 | BR13: n.a. | BS13: n.a. | BT13: EXAMPLE: 16,667 | BU13: n.a. | BV13: n.a. | BW13: EXAMPLE: 16,667 | BX13: n.a.
A14: EXAMPLE: PR_21 (Do not delete or edit this row) | B14: EXAMPLE: Third-party premium payment | C14: EXAMPLE: Number of beneficiaries enrolled in the demonstration who had any portion of their premium or other monthly payments paid by a third party. | D14: EXAMPLE: PR.Mod_1: Eligibility and payment amounts | E14: EXAMPLE: Administrative records | F14: EXAMPLE: 30 days | G14: EXAMPLE: Month 3 | H14: blank | I14: blank | J14: blank | K14: EXAMPLE: Version 2.0 | L14: EXAMPLE: N | M14: EXAMPLE: 03/01/2020-03/31/2020 | N14: n.a. | O14: EXAMPLE: 50,000 | P14: n.a. | Q14: n.a. | R14: EXAMPLE: 16,667 | S14: n.a. | T14: n.a. | U14: EXAMPLE: 16,667 | V14: n.a. | W14: n.a. | X14: EXAMPLE: 16,667 | Y14: n.a. | Z14: n.a. | AA14: EXAMPLE: 16,667 | AB14: n.a. | AC14: n.a. | AD14: EXAMPLE: 16,667 | AE14: n.a. | AF14: n.a. | AG14: EXAMPLE: 16,667 | AH14: n.a. | AI14: n.a. | AJ14: EXAMPLE: 16,667 | AK14: n.a. | AL14: n.a. | AM14: EXAMPLE: 16,667 | AN14: n.a. | AO14: n.a. | AP14: EXAMPLE: 16,667 | AQ14: n.a. | AR14: n.a. | AS14: EXAMPLE: 16,667 | AT14: n.a. | AU14: n.a. | AV14: EXAMPLE: 16,667 | AW14: n.a. | AX14: n.a. | AY14: EXAMPLE: 16,667 | AZ14: n.a. | BA14: n.a. | BB14: EXAMPLE: 16,667 | BC14: n.a. | BD14: n.a. | BE14: EXAMPLE: 16,667 | BF14: n.a. | BG14: n.a. | BH14: EXAMPLE: 16,667 | BI14: n.a. | BJ14: n.a. | BK14: EXAMPLE: 16,667 | BL14: n.a. | BM14: n.a. | BN14: EXAMPLE: 16,667 | BO14: n.a. | BP14: n.a. | BQ14: EXAMPLE: 16,667 | BR14: n.a. | BS14: n.a. | BT14: EXAMPLE: 16,667 | BU14: n.a. | BV14: n.a. | BW14: EXAMPLE: 16,667 | BX14: n.a.
A15: PR_1 | B15: Beneficiaries subject to premium policy (or account contribution) during the month, not exempt | C15: The number of beneficiaries enrolled in the demonstration whose income and eligibility group were subject to the premium policy (or account contribution policy), regardless of whether they paid or did not pay during the measurement period. | D15: PR.Mod_1: Eligibility and payment amounts | E15: Administrative records | F15: 30 days | G15: Month 1 | H15: Y | I15: Y | K15: Version 4.0 | L15: Y | M15: 10/01/2024- 10/31/2024 | N15: n.a. | O15: 0 | P15: n.a. | Q15: n.a. | R15: n.a. | S15: n.a. | T15: n.a. | U15: n.a. | V15: n.a. | W15: n.a. | X15: n.a. | Y15: n.a. | Z15: n.a. | AA15: n.a. | AB15: n.a. | AC15: n.a. | AD15: n.a. | AE15: n.a. | AF15: n.a. | AG15: n.a. | AH15: n.a. | AI15: n.a. | AJ15: n.a. | AK15: n.a. | AL15: n.a. | AM15: n.a. | AN15: n.a. | AO15: n.a. | AP15: n.a. | AQ15: n.a. | AR15: n.a. | AS15: n.a. | AT15: n.a. | AU15: n.a. | AV15: n.a. | AW15: n.a. | AX15: n.a. | AY15: n.a. | AZ15: n.a. | BA15: n.a. | BB15: n.a. | BC15: n.a. | BD15: n.a. | BE15: n.a. | BF15: n.a. | BG15: n.a. | BH15: n.a. | BI15: n.a. | BJ15: n.a. | BK15: n.a. | BL15: n.a. | BM15: n.a. | BN15: n.a. | BO15: n.a. | BP15: n.a. | BQ15: n.a. | BR15: n.a. | BS15: n.a. | BT15: n.a. | BU15: n.a. | BV15: n.a. | BW15: n.a. | BX15: n.a. | BZ15: 0 | CC15: 0
A16: PR_1 | B16: Beneficiaries subject to premium policy (or account contribution) during the month, not exempt | C16: The number of beneficiaries enrolled in the demonstration whose income and eligibility group were subject to the premium policy (or account contribution policy), regardless of whether they paid or did not pay during the measurement period. | D16: PR.Mod_1: Eligibility and payment amounts | E16: Administrative records | F16: 30 days | G16: Month 2 | H16: =IF(H15="","",H15) -> Y | I16: =IF(I15="","",I15) -> Y | J16: =IF(J15="","",J15) | K16: =IF(K15="","",K15) -> Version 4.0 | L16: =IF(L15="","",L15) -> Y | M16: 11/01/2024- 11/30/2024 | N16: n.a. | O16: 0 | P16: n.a. | Q16: n.a. | R16: n.a. | S16: n.a. | T16: n.a. | U16: n.a. | V16: n.a. | W16: n.a. | X16: n.a. | Y16: n.a. | Z16: n.a. | AA16: n.a. | AB16: n.a. | AC16: n.a. | AD16: n.a. | AE16: n.a. | AF16: n.a. | AG16: n.a. | AH16: n.a. | AI16: n.a. | AJ16: n.a. | AK16: n.a. | AL16: n.a. | AM16: n.a. | AN16: n.a. | AO16: n.a. | AP16: n.a. | AQ16: n.a. | AR16: n.a. | AS16: n.a. | AT16: n.a. | AU16: n.a. | AV16: n.a. | AW16: n.a. | AX16: n.a. | AY16: n.a. | AZ16: n.a. | BA16: n.a. | BB16: n.a. | BC16: n.a. | BD16: n.a. | BE16: n.a. | BF16: n.a. | BG16: n.a. | BH16: n.a. | BI16: n.a. | BJ16: n.a. | BK16: n.a. | BL16: n.a. | BM16: n.a. | BN16: n.a. | BO16: n.a. | BP16: n.a. | BQ16: n.a. | BR16: n.a. | BS16: n.a. | BT16: n.a. | BU16: n.a. | BV16: n.a. | BW16: n.a. | BX16: n.a. | BZ16: 0 | CC16: 0
A17: PR_1 | B17: Beneficiaries subject to premium policy (or account contribution) during the month, not exempt | C17: The number of beneficiaries enrolled in the demonstration whose income and eligibility group were subject to the premium policy (or account contribution policy), regardless of whether they paid or did not pay during the measurement period. | D17: PR.Mod_1: Eligibility and payment amounts | E17: Administrative records | F17: 30 days | G17: Month 3 | H17: =IF(H16="","",H16) -> Y | I17: =IF(I16="","",I16) -> Y | J17: =IF(J16="","",J16) | K17: =IF(K16="","",K16) -> Version 4.0 | L17: =IF(L16="","",L16) -> Y | M17: 12/01/2024- 12/31/2024 | N17: n.a. | O17: 0 | P17: n.a. | Q17: n.a. | R17: n.a. | S17: n.a. | T17: n.a. | U17: n.a. | V17: n.a. | W17: n.a. | X17: n.a. | Y17: n.a. | Z17: n.a. | AA17: n.a. | AB17: n.a. | AC17: n.a. | AD17: n.a. | AE17: n.a. | AF17: n.a. | AG17: n.a. | AH17: n.a. | AI17: n.a. | AJ17: n.a. | AK17: n.a. | AL17: n.a. | AM17: n.a. | AN17: n.a. | AO17: n.a. | AP17: n.a. | AQ17: n.a. | AR17: n.a. | AS17: n.a. | AT17: n.a. | AU17: n.a. | AV17: n.a. | AW17: n.a. | AX17: n.a. | AY17: n.a. | AZ17: n.a. | BA17: n.a. | BB17: n.a. | BC17: n.a. | BD17: n.a. | BE17: n.a. | BF17: n.a. | BG17: n.a. | BH17: n.a. | BI17: n.a. | BJ17: n.a. | BK17: n.a. | BL17: n.a. | BM17: n.a. | BN17: n.a. | BO17: n.a. | BP17: n.a. | BQ17: n.a. | BR17: n.a. | BS17: n.a. | BT17: n.a. | BU17: n.a. | BV17: n.a. | BW17: n.a. | BX17: n.a. | BZ17: 0 | CC17: 0
A18: PR_2 | B18: Beneficiaries who were exempt from premiums for that month | C18: Among beneficiaries enrolled in the demonstration who were subject to the premium (or account contribution) policy on the basis of income or eligibility group, the count of those exempt from owing premiums or other monthly payments, and therefore not required to make payments. For example, demonstration policies may exempt beneficiaries who would otherwise be subject to premiums as incentives for healthy behaviors or other activities. | D18: PR.Mod_1: Eligibility and payment amounts | E18: Administrative records | F18: 30 days | G18: Month 1 | H18: Y | I18: Y | K18: Version 4.0 | L18: Y | M18: 10/01/2024- 10/31/2024 | N18: n.a. | O18: 0 | P18: n.a. | Q18: n.a. | R18: n.a. | S18: n.a. | T18: n.a. | U18: n.a. | V18: n.a. | W18: n.a. | X18: n.a. | Y18: n.a. | Z18: n.a. | AA18: n.a. | AB18: n.a. | AC18: n.a. | AD18: n.a. | AE18: n.a. | AF18: n.a. | AG18: n.a. | AH18: n.a. | AI18: n.a. | AJ18: n.a. | AK18: n.a. | AL18: n.a. | AM18: n.a. | AN18: n.a. | AO18: n.a. | AP18: n.a. | AQ18: n.a. | AR18: n.a. | AS18: n.a. | AT18: n.a. | AU18: n.a. | AV18: n.a. | AW18: n.a. | AX18: n.a. | AY18: n.a. | AZ18: n.a. | BA18: n.a. | BB18: n.a. | BC18: n.a. | BD18: n.a. | BE18: n.a. | BF18: n.a. | BG18: n.a. | BH18: n.a. | BI18: n.a. | BJ18: n.a. | BK18: n.a. | BL18: n.a. | BM18: n.a. | BN18: n.a. | BO18: n.a. | BP18: n.a. | BQ18: n.a. | BR18: n.a. | BS18: n.a. | BT18: n.a. | BU18: n.a. | BV18: n.a. | BW18: n.a. | BX18: n.a. | BZ18: 0 | CC18: 0
A19: PR_2 | B19: Beneficiaries who were exempt from premiums for that month | D19: PR.Mod_1: Eligibility and payment amounts | E19: Administrative records | F19: 30 days | G19: Month 2 | H19: =IF(H18="","",H18) -> Y | I19: =IF(I18="","",I18) -> Y | J19: =IF(J18="","",J18) | K19: =IF(K18="","",K18) -> Version 4.0 | L19: =IF(L18="","",L18) -> Y | M19: 11/01/2024- 11/30/2024 | N19: n.a. | O19: 0 | P19: n.a. | Q19: n.a. | R19: n.a. | S19: n.a. | T19: n.a. | U19: n.a. | V19: n.a. | W19: n.a. | X19: n.a. | Y19: n.a. | Z19: n.a. | AA19: n.a. | AB19: n.a. | AC19: n.a. | AD19: n.a. | AE19: n.a. | AF19: n.a. | AG19: n.a. | AH19: n.a. | AI19: n.a. | AJ19: n.a. | AK19: n.a. | AL19: n.a. | AM19: n.a. | AN19: n.a. | AO19: n.a. | AP19: n.a. | AQ19: n.a. | AR19: n.a. | AS19: n.a. | AT19: n.a. | AU19: n.a. | AV19: n.a. | AW19: n.a. | AX19: n.a. | AY19: n.a. | AZ19: n.a. | BA19: n.a. | BB19: n.a. | BC19: n.a. | BD19: n.a. | BE19: n.a. | BF19: n.a. | BG19: n.a. | BH19: n.a. | BI19: n.a. | BJ19: n.a. | BK19: n.a. | BL19: n.a. | BM19: n.a. | BN19: n.a. | BO19: n.a. | BP19: n.a. | BQ19: n.a. | BR19: n.a. | BS19: n.a. | BT19: n.a. | BU19: n.a. | BV19: n.a. | BW19: n.a. | BX19: n.a. | BZ19: 0 | CC19: 0
A20: PR_2 | B20: Beneficiaries who were exempt from premiums for that month | D20: PR.Mod_1: Eligibility and payment amounts | E20: Administrative records | F20: 30 days | G20: Month 3 | H20: =IF(H19="","",H19) -> Y | I20: =IF(I19="","",I19) -> Y | J20: =IF(J19="","",J19) | K20: =IF(K19="","",K19) -> Version 4.0 | L20: =IF(L19="","",L19) -> Y | M20: 12/01/2024- 12/31/2024 | N20: n.a. | O20: 0 | P20: n.a. | Q20: n.a. | R20: n.a. | S20: n.a. | T20: n.a. | U20: n.a. | V20: n.a. | W20: n.a. | X20: n.a. | Y20: n.a. | Z20: n.a. | AA20: n.a. | AB20: n.a. | AC20: n.a. | AD20: n.a. | AE20: n.a. | AF20: n.a. | AG20: n.a. | AH20: n.a. | AI20: n.a. | AJ20: n.a. | AK20: n.a. | AL20: n.a. | AM20: n.a. | AN20: n.a. | AO20: n.a. | AP20: n.a. | AQ20: n.a. | AR20: n.a. | AS20: n.a. | AT20: n.a. | AU20: n.a. | AV20: n.a. | AW20: n.a. | AX20: n.a. | AY20: n.a. | AZ20: n.a. | BA20: n.a. | BB20: n.a. | BC20: n.a. | BD20: n.a. | BE20: n.a. | BF20: n.a. | BG20: n.a. | BH20: n.a. | BI20: n.a. | BJ20: n.a. | BK20: n.a. | BL20: n.a. | BM20: n.a. | BN20: n.a. | BO20: n.a. | BP20: n.a. | BQ20: n.a. | BR20: n.a. | BS20: n.a. | BT20: n.a. | BU20: n.a. | BV20: n.a. | BW20: n.a. | BX20: n.a. | BZ20: 0 | CC20: 0
A21: PR_3 | B21: Beneficiaries who paid a premium during the month | C21: Among beneficiaries enrolled in the demonstration whose income and eligibility group were subject to the premium (or account contribution) policy, number of beneficiaries who paid this month. | D21: PR.Mod_1: Eligibility and payment amounts | E21: Administrative records | F21: 30 days | G21: Month 1 | H21: Y | I21: Y | K21: Version 4.0 | L21: Y | M21: 10/01/2024- 10/31/2024 | N21: n.a. | O21: 0 | P21: n.a. | Q21: n.a. | R21: n.a. | S21: n.a. | T21: n.a. | U21: n.a. | V21: n.a. | W21: n.a. | X21: n.a. | Y21: n.a. | Z21: n.a. | AA21: n.a. | AB21: n.a. | AC21: n.a. | AD21: n.a. | AE21: n.a. | AF21: n.a. | AG21: n.a. | AH21: n.a. | AI21: n.a. | AJ21: n.a. | AK21: n.a. | AL21: n.a. | AM21: n.a. | AN21: n.a. | AO21: n.a. | AP21: n.a. | AQ21: n.a. | AR21: n.a. | AS21: n.a. | AT21: n.a. | AU21: n.a. | AV21: n.a. | AW21: n.a. | AX21: n.a. | AY21: n.a. | AZ21: n.a. | BA21: n.a. | BB21: n.a. | BC21: n.a. | BD21: n.a. | BE21: n.a. | BF21: n.a. | BG21: n.a. | BH21: n.a. | BI21: n.a. | BJ21: n.a. | BK21: n.a. | BL21: n.a. | BM21: n.a. | BN21: n.a. | BO21: n.a. | BP21: n.a. | BQ21: n.a. | BR21: n.a. | BS21: n.a. | BT21: n.a. | BU21: n.a. | BV21: n.a. | BW21: n.a. | BX21: n.a. | BZ21: 0 | CC21: 0
